BEGIN:VCALENDAR
VERSION:2.0
PRODID:-//Gniew24 - ECPv6.15.14//NONSGML v1.0//EN
CALSCALE:GREGORIAN
METHOD:PUBLISH
X-ORIGINAL-URL:https://gniew24.info.pl
X-WR-CALDESC:Wydarzenia dla Gniew24
REFRESH-INTERVAL;VALUE=DURATION:PT1H
X-Robots-Tag:noindex
X-PUBLISHED-TTL:PT1H
BEGIN:VTIMEZONE
TZID:Europe/Warsaw
BEGIN:DAYLIGHT
TZOFFSETFROM:+0100
TZOFFSETTO:+0200
TZNAME:CEST
DTSTART:20240331T010000
END:DAYLIGHT
BEGIN:STANDARD
TZOFFSETFROM:+0200
TZOFFSETTO:+0100
TZNAME:CET
DTSTART:20241027T010000
END:STANDARD
BEGIN:DAYLIGHT
TZOFFSETFROM:+0100
TZOFFSETTO:+0200
TZNAME:CEST
DTSTART:20250330T010000
END:DAYLIGHT
BEGIN:STANDARD
TZOFFSETFROM:+0200
TZOFFSETTO:+0100
TZNAME:CET
DTSTART:20251026T010000
END:STANDARD
BEGIN:DAYLIGHT
TZOFFSETFROM:+0100
TZOFFSETTO:+0200
TZNAME:CEST
DTSTART:20260329T010000
END:DAYLIGHT
BEGIN:STANDARD
TZOFFSETFROM:+0200
TZOFFSETTO:+0100
TZNAME:CET
DTSTART:20261025T010000
END:STANDARD
END:VTIMEZONE
BEGIN:VEVENT
DTSTART;TZID=Europe/Warsaw:20250808T190000
DTEND;TZID=Europe/Warsaw:20250810T190000
DTSTAMP:20260423T200938
CREATED:20250709T120138Z
LAST-MODIFIED:20250709T120138Z
UID:12061-1754679600-1754852400@gniew24.info.pl
SUMMARY:Vivat Vasa!
DESCRIPTION:Weekend 8-10 sierpnia – nie może Was zabraknąć. \nW nadchodzących postach będziemy ujawniać więcej szczegółów dotyczących harmonogramu.
URL:https://gniew24.info.pl/wydarzenie/vivat-vasa/
CATEGORIES:Wydarzenia
ATTACH;FMTTYPE=image/jpeg:https://gniew24.info.pl/wp-content/uploads/2025/07/514008767_725218270242882_5264787416102723033_n.jpg
END:VEVENT
BEGIN:VEVENT
DTSTART;TZID=Europe/Warsaw:20250613T100000
DTEND;TZID=Europe/Warsaw:20250614T140000
DTSTAMP:20260423T200938
CREATED:20250606T064207Z
LAST-MODIFIED:20250606T064207Z
UID:11889-1749808800-1749909600@gniew24.info.pl
SUMMARY:Europejskie Dni Archeologii 2025
DESCRIPTION:Archeologia rozpala wyobraźnię wielu ludzi. W czerwcu nadarza się okazja\, żeby lepiej poznać tę naukę i pracę archeologa. Muzeum Archeologiczne w Gdańsku zaprasza do swojego oddziału pod zamkiem w Gniewie. Tam w dniach 13 i 14 czerwca odbędą się wydarzenia organizowane w ramach Europejskich Dni Archeologii 2025.\n\n\nW piątek – wystąpienia popularnonaukowe\, w sobotę – atrakcje plenerowe.\n\n\n13 czerwca 2025 r. (piątek) – wstęp wolny\nWYSTĄPIENIA POPULARNONAUKOWE\n 10:00–10:45 | Ochrona dziedzictwa archeologicznego na Kociewiu. W poszukiwaniu lokalnej tożsamości” – Jakub Mosiejczyk (Instytut Archeologii – Uniwersytet Mikołaja Kopernika w Toruniu)\n 10:45–11:00 | „Wokół skarbu rzymskich monet z Wielkiego Bukowca. Identyfikacja\, chronologia i problematyka konserwatorska” – Mateusz Wełna (Koło Archeologii Starożytności – Uniwersytet Mikołaja Kopernika w Toruniu)\n 11:15–12:00 | „Szlak bursztynowy w oparciu o badania archeologiczne w Opaleniu” – Ewa Adamska-Grzymała (Muzeum Archeologiczne w Gdańsku)\n 12:00–12:45 | „Co kryje w sobie antropologia w połączeniu z archeologią” – Aleksandra Pudło (Muzeum Archeologiczne w Gdańsku)\n\n\n14 czerwca 2025 r. (sobota) – wstęp biletowany: 5 zł dla osób posiadających bilet na zwiedzanie zamku / 10 zł dla pozostałych. Bilety kupuje się w Domu Bramnym (Gniew\, ul. Zamkowa 2).\n 11:00–14:00 | Warsztaty plastyczne: tworzenie kolaży ze zdjęć zabytków archeologicznych\n 12:00 | Spektakl historyczny: „Werbunek do szwedzkiego regimentu”\n 13:00 | Prelekcja: „Wikingowie na Ziemi Gniewskiej” – Weronika Bałdyga (Uniwersytet Warszawski)\n 14:00 | Spacer historyczny po zabytkowym Gniewie i Wzgórzu Zamkowym\n\n\nWszystkie wydarzenia wymienione w programie są otwarte. Nie trzeba się zapisywać.\nPonadto w ramach obchodów Europejskich Dni Archeologii 2025 pracownicy Muzeum Archeologicznego w Gdańsku zorganizują zajęcia edukacyjne dla uczniów szkoły w Polskim Gronowie.\n\n\nPoczątki Europejskich Dni Archeologii (EDA) sięgają 2010 roku. Pomysł narodził się we Francji i dość szybko został przyjęty w innych krajach. W Polsce EDA są organizowane od sześciu lat. Z roku na rok akcja nabiera rozmachu i popularności\, a ogólnopolskie wydarzenia organizowane w ramach EDA są liczone już w setkach.\nPatronem Europejskich Dni Archeologii jest Alain Berset\, Sekretarz Generalny Rady Europy. W Polsce akcję koordynuje Narodowy Instytut Dziedzictwa przy dofinansowaniu ze środków Ministra Kultury i Dziedzictwa Narodowego. Partnerami medialnymi w tym roku są: TVP Info\, TVP 3 Poznań oraz magazyn „Archeologia Żywa”.\n\n\nZapowiedź wydarzenia na stronie Muzeum Archeologicznego w Gdańsku: https://archeologia.pl/…/europejskie-dni-archeologii-2025/\nWirtualny spacer po Oddziale w Gniewie: https://maps.app.goo.gl/ZrS4JobW1gjQr5AW8\n\n\nFilm „Odkryj historię Gniewu”: https://youtu.be/Xt9kcWQ5ahk?feature=shared
URL:https://gniew24.info.pl/wydarzenie/europejskie-dni-archeologii-2025/
CATEGORIES:Wydarzenia
ATTACH;FMTTYPE=image/jpeg:https://gniew24.info.pl/wp-content/uploads/2025/06/500280399_1271259748332879_292947359930126114_n-1.jpg
END:VEVENT
BEGIN:VEVENT
DTSTART;TZID=Europe/Warsaw:20250517T160000
DTEND;TZID=Europe/Warsaw:20250517T220000
DTSTAMP:20260423T200938
CREATED:20250517T073219Z
LAST-MODIFIED:20250517T073219Z
UID:11756-1747497600-1747519200@gniew24.info.pl
SUMMARY:Noc Muzeów 2025 - zamek w Gniewie
DESCRIPTION:O godzinie 16:00 zapraszamy na otwarcie wystawy czasowej „Ptasi trel”\, poświęconej ptakom na Kociewiu. Wydarzenia towarzyszące: pokaz sokolniczy oraz wykład ornitologiczny. Miejsce: Dom Bramny\, ul. Zamkowa 2.\nAtrakcje od 17:00 do 22:00:► zwiedzanie zamku z przewodnikami (grupy 30-osobowe\, wejścia co 15 minut\, ostatnie wejście o 21:45)\,► warsztaty plastyczne w Domu Bramnym\,► ognisko pod kasztanami (zapewniamy kijki\, jedzenie trzeba zorganizować samodzielnie)\,► warsztaty tańca\,► lepienie z gliny\,► zabawy plebejskie\,► kino plenerowe z filmem o zamku i turniejach rycerskich\,► miejsce do robienia zdjęć w przebraniu historycznym (na przykład w płaszczu krzyżackim).\n* * *\nWstęp: 1 zł\n* * *\nOdkryj więcej atrakcji na Noc Muzeów 2025: https://archeologia.pl/…/noc-muzeow-2025-gdansk-sopot…/
URL:https://gniew24.info.pl/wydarzenie/noc-muzeow-2025-zamek-w-gniewie/
LOCATION:Dom Bramny\, ul. Zamkowa 2\, Gniew\, 83-140
CATEGORIES:Wydarzenia
ATTACH;FMTTYPE=image/jpeg:https://gniew24.info.pl/wp-content/uploads/2025/05/494278395_1248414930617361_5089397604891689136_n.jpg
END:VEVENT
END:VCALENDAR