BEGIN:VCALENDAR
VERSION:2.0
PRODID:-//Gniew24 - ECPv6.15.14//NONSGML v1.0//EN
CALSCALE:GREGORIAN
METHOD:PUBLISH
X-WR-CALNAME:Gniew24
X-ORIGINAL-URL:https://gniew24.info.pl
X-WR-CALDESC:Wydarzenia dla Gniew24
REFRESH-INTERVAL;VALUE=DURATION:PT1H
X-Robots-Tag:noindex
X-PUBLISHED-TTL:PT1H
BEGIN:VTIMEZONE
TZID:Europe/Warsaw
BEGIN:DAYLIGHT
TZOFFSETFROM:+0100
TZOFFSETTO:+0200
TZNAME:CEST
DTSTART:20240331T010000
END:DAYLIGHT
BEGIN:STANDARD
TZOFFSETFROM:+0200
TZOFFSETTO:+0100
TZNAME:CET
DTSTART:20241027T010000
END:STANDARD
BEGIN:DAYLIGHT
TZOFFSETFROM:+0100
TZOFFSETTO:+0200
TZNAME:CEST
DTSTART:20250330T010000
END:DAYLIGHT
BEGIN:STANDARD
TZOFFSETFROM:+0200
TZOFFSETTO:+0100
TZNAME:CET
DTSTART:20251026T010000
END:STANDARD
BEGIN:DAYLIGHT
TZOFFSETFROM:+0100
TZOFFSETTO:+0200
TZNAME:CEST
DTSTART:20260329T010000
END:DAYLIGHT
BEGIN:STANDARD
TZOFFSETFROM:+0200
TZOFFSETTO:+0100
TZNAME:CET
DTSTART:20261025T010000
END:STANDARD
END:VTIMEZONE
BEGIN:VEVENT
DTSTART;TZID=Europe/Warsaw:20250608T120000
DTEND;TZID=Europe/Warsaw:20250608T200000
DTSTAMP:20260423T200940
CREATED:20250604T062210Z
LAST-MODIFIED:20250604T062210Z
UID:11864-1749384000-1749412800@gniew24.info.pl
SUMMARY:Dzień Dziecka w Polskim Gronowie
DESCRIPTION:
URL:https://gniew24.info.pl/wydarzenie/dzien-dziecka-w-polskim-gronowie/
CATEGORIES:Wydarzenia
ATTACH;FMTTYPE=image/jpeg:https://gniew24.info.pl/wp-content/uploads/2025/06/503989336_122101566794896166_1245431544808312848_n.jpg
END:VEVENT
END:VCALENDAR