BEGIN:VCALENDAR
VERSION:2.0
PRODID:-//Gniew24 - ECPv6.15.14//NONSGML v1.0//EN
CALSCALE:GREGORIAN
METHOD:PUBLISH
X-WR-CALNAME:Gniew24
X-ORIGINAL-URL:https://gniew24.info.pl
X-WR-CALDESC:Wydarzenia dla Gniew24
REFRESH-INTERVAL;VALUE=DURATION:PT1H
X-Robots-Tag:noindex
X-PUBLISHED-TTL:PT1H
BEGIN:VTIMEZONE
TZID:Europe/Warsaw
BEGIN:DAYLIGHT
TZOFFSETFROM:+0100
TZOFFSETTO:+0200
TZNAME:CEST
DTSTART:20240331T010000
END:DAYLIGHT
BEGIN:STANDARD
TZOFFSETFROM:+0200
TZOFFSETTO:+0100
TZNAME:CET
DTSTART:20241027T010000
END:STANDARD
BEGIN:DAYLIGHT
TZOFFSETFROM:+0100
TZOFFSETTO:+0200
TZNAME:CEST
DTSTART:20250330T010000
END:DAYLIGHT
BEGIN:STANDARD
TZOFFSETFROM:+0200
TZOFFSETTO:+0100
TZNAME:CET
DTSTART:20251026T010000
END:STANDARD
BEGIN:DAYLIGHT
TZOFFSETFROM:+0100
TZOFFSETTO:+0200
TZNAME:CEST
DTSTART:20260329T010000
END:DAYLIGHT
BEGIN:STANDARD
TZOFFSETFROM:+0200
TZOFFSETTO:+0100
TZNAME:CET
DTSTART:20261025T010000
END:STANDARD
END:VTIMEZONE
BEGIN:VEVENT
DTSTART;TZID=Europe/Warsaw:20251113T080000
DTEND;TZID=Europe/Warsaw:20251116T170000
DTSTAMP:20260423T213153
CREATED:20251113T083541Z
LAST-MODIFIED:20251113T083541Z
UID:12371-1763020800-1763312400@gniew24.info.pl
SUMMARY:FLESZ KIBICA - 13 - 16.11.2025
DESCRIPTION:
URL:https://gniew24.info.pl/wydarzenie/flesz-kibica-13-16-11-2025/
CATEGORIES:Sport
ATTACH;FMTTYPE=image/jpeg:https://gniew24.info.pl/wp-content/uploads/2025/11/581005344_1457354946392027_5763618564512414527_n.jpg
END:VEVENT
BEGIN:VEVENT
DTSTART;TZID=Europe/Warsaw:20250905T200000
DTEND;TZID=Europe/Warsaw:20250905T220000
DTSTAMP:20260423T213153
CREATED:20250905T074157Z
LAST-MODIFIED:20250905T074157Z
UID:12216-1757102400-1757109600@gniew24.info.pl
SUMMARY:KINO PLENEROWE
DESCRIPTION:Szanowni Państwo\, przez prognozowane opady deszczu\, zmuszeni jesteśmy przełożyć dzisiejszą projekcję filmu. Prosimy o wyrozumiałość\, ponieważ na przygotowanie kina plenerowego potrzebujemy kilku godzin pracy na zewnątrz a ekran nie może zmoknąć.Kolejną projekcję planujemy w przyszły piątek 5 września.
URL:https://gniew24.info.pl/wydarzenie/kino-plenerowe/
CATEGORIES:Wydarzenia
ATTACH;FMTTYPE=image/jpeg:https://gniew24.info.pl/wp-content/uploads/2025/09/540918792_770397192391656_2350164921026880806_n.jpg
END:VEVENT
BEGIN:VEVENT
DTSTART;TZID=Europe/Warsaw:20250905T120000
DTEND;TZID=Europe/Warsaw:20250905T150000
DTSTAMP:20260423T213153
CREATED:20250905T074339Z
LAST-MODIFIED:20250905T074339Z
UID:12220-1757073600-1757084400@gniew24.info.pl
SUMMARY:NARODOWE CZYTANIE
DESCRIPTION:O godzinie 12:00 na gniewskim rynku rozpocznie się Narodowe Czytanie.
URL:https://gniew24.info.pl/wydarzenie/narodowe-czytanie/
CATEGORIES:Wydarzenia
ATTACH;FMTTYPE=image/jpeg:https://gniew24.info.pl/wp-content/uploads/2025/09/543129378_774943745270334_5471147792376481870_n.jpg
END:VEVENT
BEGIN:VEVENT
DTSTART;TZID=Europe/Warsaw:20250826T110000
DTEND;TZID=Europe/Warsaw:20250826T150000
DTSTAMP:20260423T213153
CREATED:20250825T121253Z
LAST-MODIFIED:20250825T121407Z
UID:12167-1756206000-1756220400@gniew24.info.pl
SUMMARY:Wakacyjny Turniej Badmintona
DESCRIPTION:Więcej informacji na: https://www.facebook.com/gosirwgniewie
URL:https://gniew24.info.pl/wydarzenie/wakacyjny-turneij-badmintona/
CATEGORIES:Sport
ATTACH;FMTTYPE=image/jpeg:https://gniew24.info.pl/wp-content/uploads/2025/08/514352487_1379105240883665_5804702305542223326_n.jpg
END:VEVENT
BEGIN:VEVENT
DTSTART;TZID=Europe/Warsaw:20250725T203000
DTEND;TZID=Europe/Warsaw:20250725T220000
DTSTAMP:20260423T213153
CREATED:20250717T073927Z
LAST-MODIFIED:20250717T073927Z
UID:12095-1753475400-1753480800@gniew24.info.pl
SUMMARY:Kino plenerowe w Gniewie!
DESCRIPTION: Kino plenerowe powraca… z dreszczykiem grozy  25.07.2025 20:30 Rynek w GniewieJuż w piątek\, 25 lipca na ekranie kina plenerowego pojawi się horror „Zło czyha za drzwiami”.Nie przychodźcie sami… Wstęp wolny\, odwaga obowiązkowa Czekamy na Was \nInformacja oraz grafika: Centrum Kultury i Biblioteka Publiczna w Gniewie
URL:https://gniew24.info.pl/wydarzenie/kino-plenerowe-w-gniewie/
CATEGORIES:Wydarzenia
ATTACH;FMTTYPE=image/jpeg:https://gniew24.info.pl/wp-content/uploads/2025/07/518302102_735868022511240_1507272426831944878_n.jpg
END:VEVENT
BEGIN:VEVENT
DTSTART;TZID=Europe/Warsaw:20250712T100000
DTEND;TZID=Europe/Warsaw:20250719T170000
DTSTAMP:20260423T213153
CREATED:20250703T055242Z
LAST-MODIFIED:20250703T055242Z
UID:12033-1752314400-1752944400@gniew24.info.pl
SUMMARY:IMPREZY SPORTOWE LIPIEC 2025
DESCRIPTION:
URL:https://gniew24.info.pl/wydarzenie/imprezy-sportowe-lipiec-2025/
CATEGORIES:Sport
ATTACH;FMTTYPE=image/jpeg:https://gniew24.info.pl/wp-content/uploads/2025/07/513916827_1327927259334797_3535213587998476224_n.jpg
END:VEVENT
BEGIN:VEVENT
DTSTART;TZID=Europe/Warsaw:20250629T110000
DTEND;TZID=Europe/Warsaw:20250629T130000
DTSTAMP:20260423T213153
CREATED:20250603T094746Z
LAST-MODIFIED:20250603T094746Z
UID:11861-1751194800-1751202000@gniew24.info.pl
SUMMARY:XI BIEG GNIEWSKI Z LECA
DESCRIPTION:XI BIEG GNIEWSKI Z LECA \nBieg odbędzie się w dniu 29 czerwca 2025 roku o godzinie 11:00 na terenie Miasta i Gminy Gniew. \nTRASA \nTrasa liczy 10 km. \nNawierzchnia trasy zróżnicowana\, bruk\, asfalt\, kostka\, żwir\, piasek\, droga polna. \nTrasa oznaczona będzie znakami poziomymi i pionowymi 1km – 9 km\, strzałkami kierunku biegu\, barierkami\, tyczkami porządkowymi oraz taśmami ostrzegawczymi \nTrasa nie posiada atestu. \nLIMIT CZASU \nZawodników obowiązuje limit czasu wynoszący 90 minut od strzału startera. Jeżeli Zawodnik nie ukończy biegu przed upływem powyższego limitu czasu\, nie zostanie sklasyfikowany. \nZawodnicy\, którzy po upływie wskazanego wyżej czasu nie dotrą do mety zobowiązani są do przerwania biegu i zejścia z trasy. \nNAGRODY \nKażdy Uczestnik biegu otrzyma na mecie pamiątkowy medal. \nPuchary za zajęcie miejsc I – III w klasyfikacji generalnej mężczyzn i kobiet. \nZdobywcy miejsc I – III w poszczególnych kategoriach wiekowych oraz w klasyfikacji mieszkaniec Miasta i Gminy Gniew otrzymają również pamiątkowe puchary. \n  \nSZCZEGÓŁOWE INFORMACJE O BIEGU MOZNA UZYSKAĆ: \nFACEBOOK GOSiR GNIEWSKI \nhttps://www.facebook.com/gosirwgniewie/ \nSTRONA BIEGU \nhttps://www.facebook.com/gosirbieggniewski/
URL:https://gniew24.info.pl/wydarzenie/xi-bieg-gniewski-z-leca/
CATEGORIES:Sport
ATTACH;FMTTYPE=image/jpeg:https://gniew24.info.pl/wp-content/uploads/2025/06/484170718_973746774862539_2916644478472998050_n.jpg
END:VEVENT
BEGIN:VEVENT
DTSTART;TZID=Europe/Warsaw:20250628T193000
DTEND;TZID=Europe/Warsaw:20250628T220000
DTSTAMP:20260423T213153
CREATED:20250523T053253Z
LAST-MODIFIED:20250523T053253Z
UID:11763-1751139000-1751148000@gniew24.info.pl
SUMMARY:XXXIV Turniej Rycerski Króla Jana III Sobieskiego!
DESCRIPTION:„Rycerze Gniewu” po raz kolejny szykują się do zmagań na Arenie Turniejowej Zamku Gniew. Wielokrotnie zdobywali oni tytuły championów turniejowych w Polsce\, Wielkiej Brytanii\, Francji\, Belgii\, Norwegii\, Danii\, Finlandii\, USA czy w Kanadzie. Na Arenie Turniejowej Zamku Gniew kruszyli kopie najlepsi rycerze z trzech kontynentów.Harmonogram:Ceremonia otwarcia Turnieju i prezentacja Rycerzy GniewuGonitwy sprawnościowe – konne gonitwy sprawnościowe z mieczem\, włócznią i kopiąMeleė – pojedynki turniejowe rycerzy konnych z maczugamiGonitwy Turniejowe Rycerzy Gniewu – starcia rycerzy konnych w zbrojach\, których celem jest skruszenie kopii i wysadzenie przeciwnika z siodłaBilety dostępne w serwisie kupbilecik.plLink: https://kbq.pl/163605Oraz stacjonarnie\, 28.06 przy Arenie Turniejowej Zamku w Gniewie.Cena Biletu: Normalny 30 / Ulgowy 20
URL:https://gniew24.info.pl/wydarzenie/xxxiv-turniej-rycerski-krola-jana-iii-sobieskiego/
LOCATION:Zamek Gniew\, Zamkowa 3\, Gniew\, 83-140
CATEGORIES:Wydarzenia
ATTACH;FMTTYPE=image/jpeg:https://gniew24.info.pl/wp-content/uploads/2025/05/499519327_692570400174336_6194600419862292528_n.jpg
END:VEVENT
BEGIN:VEVENT
DTSTART;TZID=Europe/Warsaw:20250628T160000
DTEND;TZID=Europe/Warsaw:20250628T223000
DTSTAMP:20260423T213153
CREATED:20250602T101732Z
LAST-MODIFIED:20250602T101732Z
UID:11855-1751126400-1751149800@gniew24.info.pl
SUMMARY:Gniewinki
DESCRIPTION:Drogi wystawco już niedługo GNIEWINKI\nZapraszamy wszystkich chętnych wystawców do zaprezentowania swojego asortymentu i rękodzieła podczas Gniewinek  Jeśli chcesz wystawić swoje stoisko prosimy o zapoznanie się z regulaminem oraz wypełnienie formularza:\nhttps://ckibp.gniew.pl/wydarzenia-1/gniewinki-2025 \n\n\nWszelkie informacje udzielamy telefonicznie pod numerem\n507-125-558 lub zapraszamy do naszego biura Plac Grunwaldzki 16/17\nNa zgłoszenia czekamy do 20 czerwca \n\n\nGNIEWINKI\n28.06.2025 (sobota)\n16:00-22:30\nRynek w Gniewie\nDO ZOBACZENIA
URL:https://gniew24.info.pl/wydarzenie/gniewinki/
CATEGORIES:Wydarzenia
ATTACH;FMTTYPE=image/jpeg:https://gniew24.info.pl/wp-content/uploads/2025/06/500058942_697866302978079_824673213332726808_n.jpg
END:VEVENT
BEGIN:VEVENT
DTSTART;TZID=Europe/Warsaw:20250628T000000
DTEND;TZID=Europe/Warsaw:20250629T000000
DTSTAMP:20260423T213153
CREATED:20250611T111815Z
LAST-MODIFIED:20250611T111815Z
UID:11968-1751068800-1751155200@gniew24.info.pl
SUMMARY:GNIEWINKI 2025
DESCRIPTION:GNIEWINKI 2025Rynek w Gniewie28 czerwca specjalnie dla Was wystąpią:CLEOKobranockalokalni artyściW programie ponadto liczne atrakcje\, zarówno dla młodszych\, jak i starszych.WSTĘP WOLNY
URL:https://gniew24.info.pl/wydarzenie/gniewinki-2025/
CATEGORIES:Wydarzenia
ATTACH;FMTTYPE=image/jpeg:https://gniew24.info.pl/wp-content/uploads/2025/06/505938522_708147188616657_183924379622638612_n.jpg
END:VEVENT
BEGIN:VEVENT
DTSTART;TZID=Europe/Warsaw:20250613T100000
DTEND;TZID=Europe/Warsaw:20250614T140000
DTSTAMP:20260423T213153
CREATED:20250606T064207Z
LAST-MODIFIED:20250606T064207Z
UID:11889-1749808800-1749909600@gniew24.info.pl
SUMMARY:Europejskie Dni Archeologii 2025
DESCRIPTION:Archeologia rozpala wyobraźnię wielu ludzi. W czerwcu nadarza się okazja\, żeby lepiej poznać tę naukę i pracę archeologa. Muzeum Archeologiczne w Gdańsku zaprasza do swojego oddziału pod zamkiem w Gniewie. Tam w dniach 13 i 14 czerwca odbędą się wydarzenia organizowane w ramach Europejskich Dni Archeologii 2025.\n\n\nW piątek – wystąpienia popularnonaukowe\, w sobotę – atrakcje plenerowe.\n\n\n13 czerwca 2025 r. (piątek) – wstęp wolny\nWYSTĄPIENIA POPULARNONAUKOWE\n 10:00–10:45 | Ochrona dziedzictwa archeologicznego na Kociewiu. W poszukiwaniu lokalnej tożsamości” – Jakub Mosiejczyk (Instytut Archeologii – Uniwersytet Mikołaja Kopernika w Toruniu)\n 10:45–11:00 | „Wokół skarbu rzymskich monet z Wielkiego Bukowca. Identyfikacja\, chronologia i problematyka konserwatorska” – Mateusz Wełna (Koło Archeologii Starożytności – Uniwersytet Mikołaja Kopernika w Toruniu)\n 11:15–12:00 | „Szlak bursztynowy w oparciu o badania archeologiczne w Opaleniu” – Ewa Adamska-Grzymała (Muzeum Archeologiczne w Gdańsku)\n 12:00–12:45 | „Co kryje w sobie antropologia w połączeniu z archeologią” – Aleksandra Pudło (Muzeum Archeologiczne w Gdańsku)\n\n\n14 czerwca 2025 r. (sobota) – wstęp biletowany: 5 zł dla osób posiadających bilet na zwiedzanie zamku / 10 zł dla pozostałych. Bilety kupuje się w Domu Bramnym (Gniew\, ul. Zamkowa 2).\n 11:00–14:00 | Warsztaty plastyczne: tworzenie kolaży ze zdjęć zabytków archeologicznych\n 12:00 | Spektakl historyczny: „Werbunek do szwedzkiego regimentu”\n 13:00 | Prelekcja: „Wikingowie na Ziemi Gniewskiej” – Weronika Bałdyga (Uniwersytet Warszawski)\n 14:00 | Spacer historyczny po zabytkowym Gniewie i Wzgórzu Zamkowym\n\n\nWszystkie wydarzenia wymienione w programie są otwarte. Nie trzeba się zapisywać.\nPonadto w ramach obchodów Europejskich Dni Archeologii 2025 pracownicy Muzeum Archeologicznego w Gdańsku zorganizują zajęcia edukacyjne dla uczniów szkoły w Polskim Gronowie.\n\n\nPoczątki Europejskich Dni Archeologii (EDA) sięgają 2010 roku. Pomysł narodził się we Francji i dość szybko został przyjęty w innych krajach. W Polsce EDA są organizowane od sześciu lat. Z roku na rok akcja nabiera rozmachu i popularności\, a ogólnopolskie wydarzenia organizowane w ramach EDA są liczone już w setkach.\nPatronem Europejskich Dni Archeologii jest Alain Berset\, Sekretarz Generalny Rady Europy. W Polsce akcję koordynuje Narodowy Instytut Dziedzictwa przy dofinansowaniu ze środków Ministra Kultury i Dziedzictwa Narodowego. Partnerami medialnymi w tym roku są: TVP Info\, TVP 3 Poznań oraz magazyn „Archeologia Żywa”.\n\n\nZapowiedź wydarzenia na stronie Muzeum Archeologicznego w Gdańsku: https://archeologia.pl/…/europejskie-dni-archeologii-2025/\nWirtualny spacer po Oddziale w Gniewie: https://maps.app.goo.gl/ZrS4JobW1gjQr5AW8\n\n\nFilm „Odkryj historię Gniewu”: https://youtu.be/Xt9kcWQ5ahk?feature=shared
URL:https://gniew24.info.pl/wydarzenie/europejskie-dni-archeologii-2025/
CATEGORIES:Wydarzenia
ATTACH;FMTTYPE=image/jpeg:https://gniew24.info.pl/wp-content/uploads/2025/06/500280399_1271259748332879_292947359930126114_n-1.jpg
END:VEVENT
BEGIN:VEVENT
DTSTART;TZID=Europe/Warsaw:20250608T140000
DTEND;TZID=Europe/Warsaw:20250608T153000
DTSTAMP:20260423T213153
CREATED:20250603T064237Z
LAST-MODIFIED:20250603T064237Z
UID:11858-1749391200-1749396600@gniew24.info.pl
SUMMARY:Mecz Sobieski Gniew - KP Keramzyt Szprudowo
DESCRIPTION:Ostatnia kolejka B Klasy.
URL:https://gniew24.info.pl/wydarzenie/mecz-sobieski-gniew-kp-keramzyt-szprudowo/
LOCATION:Kusocińskiego 10\, 83-140 Gniew\, Kusocińskiego 10\, Gniew\, 83-140\, Poland
CATEGORIES:Sport
ATTACH;FMTTYPE=image/jpeg:https://gniew24.info.pl/wp-content/uploads/2025/06/89c1ca4d-4147-4718-b826-415ff297042a.jpeg
END:VEVENT
BEGIN:VEVENT
DTSTART;TZID=Europe/Warsaw:20250608T080000
DTEND;TZID=Europe/Warsaw:20250608T170000
DTSTAMP:20260423T213153
CREATED:20250531T190105Z
LAST-MODIFIED:20250531T190105Z
UID:11837-1749369600-1749402000@gniew24.info.pl
SUMMARY:Autopartner MTB Pomerania Maraton – Gniew 2025
DESCRIPTION:Zawody pod patronatem tytularnym marki Autopartner!Podczas tej edycji odbędzie się dodatkowa klasyfikacja dla pracowników\, klientów i przyjaciół firmy Autopartner. \nGNIEW po raz trzeci w historii MTB Pomerania Maraton!Start i meta zlokalizowane będą na brukowanym urokliwym Starym Rynku. Trasa „Super XCm Gniew” poprowadzi przez teren zamku gniew\, następnie przez leśne odcinki w Nicponi\, Szeligach i Brodach. Uczestników czekają liczne single tracki i techniczne sekcje przygotowane przez lokalnych pasjonatów MTB.\n Dystanse: FUN – 12\,5 km (dla początkujących oraz dzieci od 8 lat) SPEED – 34\,5 km (dla średniozaawansowanych\, krótki i interwałowy dystans) MEGA – 64 km (dla zaawansowanych kolarzy – 2 pętle) MINI CROSS – około 100 m (rowerki biegowe) i około 1 km (rowerki normalne) teren asfaltowo/brukowy\n Przewyższenia: FUN – około 150 m SPEED – około 650 m MEGA – około 1300 m\n Limity czasowe: FUN – 1\,5 godziny SPEED – 3 godziny MEGA – 4 godziny 15 minut\n⸻\n MINI CROSS – zawody dla najmłodszych:Kategorie:– Rowerki biegowe (2–4 lata) – dystans około 100 m (na terenie bazy)– Rowerki normalne (5–6 lat oraz 7–8 lat) – dystans około 1 km– Podział na dziewczynki i chłopców– Dekoracja najlepszych zawodników w każdej kategorii– Dzieci z Gminy Gniew startują za darmo– Zapisy i regulamin MINI CROSS dostępne na stronie zawodów.\n⸻\n Pakiet startowy zawiera: Numer startowy z chipem do pomiaru czasu (jeden na cały cykl) Elektroniczny pomiar czasu Puszkę napoju “Coconaut” Shot energetyczny/witaminowy “Eatyx” Red Bull (dla pełnoletnich na mecie) Dostęp do serwisu rowerowego Dostęp do bufetów na trasie Dostęp do strefy finishera Dostęp do myjki rowerowej Bon na posiłek (danie mięsne lub wegańskie) Medal finishera\nWięcej informacji o zawodach:https://mtbpomerania.pl/edycje/edycja-gniew/
URL:https://gniew24.info.pl/wydarzenie/autopartner-mtb-pomerania-maraton-gniew-2025/
CATEGORIES:Sport
ATTACH;FMTTYPE=image/jpeg:https://gniew24.info.pl/wp-content/uploads/2025/05/495041683_1234727618659280_8274557250202833361_n.jpg
END:VEVENT
BEGIN:VEVENT
DTSTART;TZID=Europe/Warsaw:20250518T150000
DTEND;TZID=Europe/Warsaw:20250518T170000
DTSTAMP:20260423T213153
CREATED:20250517T072003Z
LAST-MODIFIED:20250517T072003Z
UID:11749-1747580400-1747587600@gniew24.info.pl
SUMMARY:B KLASA - Keramzyt Szprudowo vs Pomorzanka Skórcz
DESCRIPTION:Zapraszamy na mecz 19 kolejki B Klasy.\nKeramzyt Szprudowo vs Pomorzanka Skórcz\n18 maja godzina 15:00\nStadion GOSIR w Gniewie.\nul.Kusocińskiego 10\, 83-140 Gniew.\nDodatkowe atrakcje:\n– Kawa\n– Ciasta\n– Darmowa zjeżdzalnia dla dzieci
URL:https://gniew24.info.pl/wydarzenie/b-klasa-keramzyt-szprudowo-vs-pomorzanka-skorcz/
LOCATION:Kusocińskiego 10\, 83-140 Gniew\, Kusocińskiego 10\, Gniew\, 83-140\, Poland
CATEGORIES:Sport
ATTACH;FMTTYPE=image/jpeg:https://gniew24.info.pl/wp-content/uploads/2025/05/497285206_9765241983592126_221657807819931331_n.jpg
END:VEVENT
BEGIN:VEVENT
DTSTART;TZID=Europe/Warsaw:20250517T160000
DTEND;TZID=Europe/Warsaw:20250517T220000
DTSTAMP:20260423T213153
CREATED:20250517T073219Z
LAST-MODIFIED:20250517T073219Z
UID:11756-1747497600-1747519200@gniew24.info.pl
SUMMARY:Noc Muzeów 2025 - zamek w Gniewie
DESCRIPTION:O godzinie 16:00 zapraszamy na otwarcie wystawy czasowej „Ptasi trel”\, poświęconej ptakom na Kociewiu. Wydarzenia towarzyszące: pokaz sokolniczy oraz wykład ornitologiczny. Miejsce: Dom Bramny\, ul. Zamkowa 2.\nAtrakcje od 17:00 do 22:00:► zwiedzanie zamku z przewodnikami (grupy 30-osobowe\, wejścia co 15 minut\, ostatnie wejście o 21:45)\,► warsztaty plastyczne w Domu Bramnym\,► ognisko pod kasztanami (zapewniamy kijki\, jedzenie trzeba zorganizować samodzielnie)\,► warsztaty tańca\,► lepienie z gliny\,► zabawy plebejskie\,► kino plenerowe z filmem o zamku i turniejach rycerskich\,► miejsce do robienia zdjęć w przebraniu historycznym (na przykład w płaszczu krzyżackim).\n* * *\nWstęp: 1 zł\n* * *\nOdkryj więcej atrakcji na Noc Muzeów 2025: https://archeologia.pl/…/noc-muzeow-2025-gdansk-sopot…/
URL:https://gniew24.info.pl/wydarzenie/noc-muzeow-2025-zamek-w-gniewie/
LOCATION:Dom Bramny\, ul. Zamkowa 2\, Gniew\, 83-140
CATEGORIES:Wydarzenia
ATTACH;FMTTYPE=image/jpeg:https://gniew24.info.pl/wp-content/uploads/2025/05/494278395_1248414930617361_5089397604891689136_n.jpg
END:VEVENT
END:VCALENDAR