BEGIN:VCALENDAR
VERSION:2.0
PRODID:-//Gniew24 - ECPv6.15.14//NONSGML v1.0//EN
CALSCALE:GREGORIAN
METHOD:PUBLISH
X-WR-CALNAME:Gniew24
X-ORIGINAL-URL:https://gniew24.info.pl
X-WR-CALDESC:Wydarzenia dla Gniew24
REFRESH-INTERVAL;VALUE=DURATION:PT1H
X-Robots-Tag:noindex
X-PUBLISHED-TTL:PT1H
BEGIN:VTIMEZONE
TZID:Europe/Warsaw
BEGIN:DAYLIGHT
TZOFFSETFROM:+0100
TZOFFSETTO:+0200
TZNAME:CEST
DTSTART:20240331T010000
END:DAYLIGHT
BEGIN:STANDARD
TZOFFSETFROM:+0200
TZOFFSETTO:+0100
TZNAME:CET
DTSTART:20241027T010000
END:STANDARD
BEGIN:DAYLIGHT
TZOFFSETFROM:+0100
TZOFFSETTO:+0200
TZNAME:CEST
DTSTART:20250330T010000
END:DAYLIGHT
BEGIN:STANDARD
TZOFFSETFROM:+0200
TZOFFSETTO:+0100
TZNAME:CET
DTSTART:20251026T010000
END:STANDARD
BEGIN:DAYLIGHT
TZOFFSETFROM:+0100
TZOFFSETTO:+0200
TZNAME:CEST
DTSTART:20260329T010000
END:DAYLIGHT
BEGIN:STANDARD
TZOFFSETFROM:+0200
TZOFFSETTO:+0100
TZNAME:CET
DTSTART:20261025T010000
END:STANDARD
END:VTIMEZONE
BEGIN:VEVENT
DTSTART;TZID=Europe/Warsaw:20250905T120000
DTEND;TZID=Europe/Warsaw:20250905T150000
DTSTAMP:20260423T213231
CREATED:20250905T074339Z
LAST-MODIFIED:20250905T074339Z
UID:12220-1757073600-1757084400@gniew24.info.pl
SUMMARY:NARODOWE CZYTANIE
DESCRIPTION:O godzinie 12:00 na gniewskim rynku rozpocznie się Narodowe Czytanie.
URL:https://gniew24.info.pl/wydarzenie/narodowe-czytanie/
CATEGORIES:Wydarzenia
ATTACH;FMTTYPE=image/jpeg:https://gniew24.info.pl/wp-content/uploads/2025/09/543129378_774943745270334_5471147792376481870_n.jpg
END:VEVENT
BEGIN:VEVENT
DTSTART;TZID=Europe/Warsaw:20250725T203000
DTEND;TZID=Europe/Warsaw:20250725T220000
DTSTAMP:20260423T213231
CREATED:20250717T073927Z
LAST-MODIFIED:20250717T073927Z
UID:12095-1753475400-1753480800@gniew24.info.pl
SUMMARY:Kino plenerowe w Gniewie!
DESCRIPTION: Kino plenerowe powraca… z dreszczykiem grozy  25.07.2025 20:30 Rynek w GniewieJuż w piątek\, 25 lipca na ekranie kina plenerowego pojawi się horror „Zło czyha za drzwiami”.Nie przychodźcie sami… Wstęp wolny\, odwaga obowiązkowa Czekamy na Was \nInformacja oraz grafika: Centrum Kultury i Biblioteka Publiczna w Gniewie
URL:https://gniew24.info.pl/wydarzenie/kino-plenerowe-w-gniewie/
CATEGORIES:Wydarzenia
ATTACH;FMTTYPE=image/jpeg:https://gniew24.info.pl/wp-content/uploads/2025/07/518302102_735868022511240_1507272426831944878_n.jpg
END:VEVENT
BEGIN:VEVENT
DTSTART;TZID=Europe/Warsaw:20250712T100000
DTEND;TZID=Europe/Warsaw:20250719T170000
DTSTAMP:20260423T213231
CREATED:20250703T055242Z
LAST-MODIFIED:20250703T055242Z
UID:12033-1752314400-1752944400@gniew24.info.pl
SUMMARY:IMPREZY SPORTOWE LIPIEC 2025
DESCRIPTION:
URL:https://gniew24.info.pl/wydarzenie/imprezy-sportowe-lipiec-2025/
CATEGORIES:Sport
ATTACH;FMTTYPE=image/jpeg:https://gniew24.info.pl/wp-content/uploads/2025/07/513916827_1327927259334797_3535213587998476224_n.jpg
END:VEVENT
BEGIN:VEVENT
DTSTART;TZID=Europe/Warsaw:20250628T000000
DTEND;TZID=Europe/Warsaw:20250629T000000
DTSTAMP:20260423T213231
CREATED:20250611T111815Z
LAST-MODIFIED:20250611T111815Z
UID:11968-1751068800-1751155200@gniew24.info.pl
SUMMARY:GNIEWINKI 2025
DESCRIPTION:GNIEWINKI 2025Rynek w Gniewie28 czerwca specjalnie dla Was wystąpią:CLEOKobranockalokalni artyściW programie ponadto liczne atrakcje\, zarówno dla młodszych\, jak i starszych.WSTĘP WOLNY
URL:https://gniew24.info.pl/wydarzenie/gniewinki-2025/
CATEGORIES:Wydarzenia
ATTACH;FMTTYPE=image/jpeg:https://gniew24.info.pl/wp-content/uploads/2025/06/505938522_708147188616657_183924379622638612_n.jpg
END:VEVENT
BEGIN:VEVENT
DTSTART;TZID=Europe/Warsaw:20250608T120000
DTEND;TZID=Europe/Warsaw:20250608T200000
DTSTAMP:20260423T213231
CREATED:20250604T062210Z
LAST-MODIFIED:20250604T062210Z
UID:11864-1749384000-1749412800@gniew24.info.pl
SUMMARY:Dzień Dziecka w Polskim Gronowie
DESCRIPTION:
URL:https://gniew24.info.pl/wydarzenie/dzien-dziecka-w-polskim-gronowie/
CATEGORIES:Wydarzenia
ATTACH;FMTTYPE=image/jpeg:https://gniew24.info.pl/wp-content/uploads/2025/06/503989336_122101566794896166_1245431544808312848_n.jpg
END:VEVENT
END:VCALENDAR