BEGIN:VCALENDAR
VERSION:2.0
PRODID:-//Gniew24 - ECPv6.15.14//NONSGML v1.0//EN
CALSCALE:GREGORIAN
METHOD:PUBLISH
X-WR-CALNAME:Gniew24
X-ORIGINAL-URL:https://gniew24.info.pl
X-WR-CALDESC:Wydarzenia dla Gniew24
REFRESH-INTERVAL;VALUE=DURATION:PT1H
X-Robots-Tag:noindex
X-PUBLISHED-TTL:PT1H
BEGIN:VTIMEZONE
TZID:Europe/Warsaw
BEGIN:DAYLIGHT
TZOFFSETFROM:+0100
TZOFFSETTO:+0200
TZNAME:CEST
DTSTART:20240331T010000
END:DAYLIGHT
BEGIN:STANDARD
TZOFFSETFROM:+0200
TZOFFSETTO:+0100
TZNAME:CET
DTSTART:20241027T010000
END:STANDARD
BEGIN:DAYLIGHT
TZOFFSETFROM:+0100
TZOFFSETTO:+0200
TZNAME:CEST
DTSTART:20250330T010000
END:DAYLIGHT
BEGIN:STANDARD
TZOFFSETFROM:+0200
TZOFFSETTO:+0100
TZNAME:CET
DTSTART:20251026T010000
END:STANDARD
BEGIN:DAYLIGHT
TZOFFSETFROM:+0100
TZOFFSETTO:+0200
TZNAME:CEST
DTSTART:20260329T010000
END:DAYLIGHT
BEGIN:STANDARD
TZOFFSETFROM:+0200
TZOFFSETTO:+0100
TZNAME:CET
DTSTART:20261025T010000
END:STANDARD
END:VTIMEZONE
BEGIN:VEVENT
DTSTART;TZID=Europe/Warsaw:20250503T150000
DTEND;TZID=Europe/Warsaw:20250511T210000
DTSTAMP:20260423T200715
CREATED:20250430T060507Z
LAST-MODIFIED:20250430T060507Z
UID:11533-1746284400-1746997200@gniew24.info.pl
SUMMARY:Lunapark Kellner w Gniewie!
DESCRIPTION:Karuzele\, gokarty\, wielki młot i coś zupełnie nowego\, czego jeszcze u nas w Gniewie nie było.\n\n\nObserwowaliśmy dziś na miejscu przyjazd kolejnych maszyn i postępy prac.\n\n\nEkipa Lunaparku uwija się bardzo szybko\, jednak tu najważniejsze jest bezpieczeństwo i pracę należy wykonać solidnie.\n\n\nJak dowiedzieliśmy się od Žanetka Kellnerová\, wesołe miasteczko rusza w sobotę 3 maja\, nie jak wczoraj informowaliśmy 1 maja.\n\n\nNa placu budowy wesołego miasteczka powstało już campingowa baza dla jakże sympatycznej i lubianej w naszym miasteczku polsko-czeskiej ekipy. \n\n\nJutro Żaneta opowie nam o „karuzeli życia” – czyli jak to jest mieszkać i żyć w wesołym miasteczku oraz pokaże nam na miejscu co czeka Was już w sobotę!
URL:https://gniew24.info.pl/wydarzenie/lunapark-kellner-w-gniewie/
LOCATION:Lunapark Kellner\, ul.Promowa\, Gniew\, 83-140\, Poland
CATEGORIES:Wydarzenia
ATTACH;FMTTYPE=image/jpeg:https://gniew24.info.pl/wp-content/uploads/2021/12/494714540_1005649861700198_1220843898323058318_n.jpg
END:VEVENT
END:VCALENDAR